BEGIN:VCALENDAR
VERSION:2.0
PRODID:-//Squarespace Inc/Squarespace 6//v6//EN
BEGIN:VEVENT
UID:5eb77043f37be845ff5b8e51@squarespace.com
DTSTAMP:20200614T050630Z
DTSTART:20200513T090000Z
DTEND:20200513T100000Z
SUMMARY:#SKILLUP Session - Demystifying HR in the time of COVID?
END:VEVENT
END:VCALENDAR
