BEGIN:VCALENDAR
VERSION:2.0
PRODID:-//Squarespace Inc/Squarespace 6//v6//EN
BEGIN:VEVENT
UID:5f2a5b8856706c7bd70ed509@squarespace.com
DTSTAMP:20200805T071515Z
DTSTART:20200930T090000Z
DTEND:20200930T100000Z
SUMMARY:#SKILLUP Webinar - Speak Up & Influence People
END:VEVENT
END:VCALENDAR
