BEGIN:VCALENDAR
VERSION:2.0
PRODID:-//Squarespace Inc/Squarespace 6//v6//EN
BEGIN:VEVENT
UID:5f2a4c7b56706c7bd70da9c5@squarespace.com
DTSTAMP:20200805T061517Z
DTSTART:20200826T090000Z
DTEND:20200826T100000Z
SUMMARY:#SKILLUP Webinar - Marketing Health Check
END:VEVENT
END:VCALENDAR
