BEGIN:VCALENDAR
VERSION:2.0
PRODID:-//Squarespace Inc/Squarespace 6//v6//EN
BEGIN:VEVENT
UID:5f2a536abe7dca54d78a4e19@squarespace.com
DTSTAMP:20200805T063935Z
DTSTART:20200909T090000Z
DTEND:20200909T100000Z
SUMMARY:#SKILLUP Webinar - How the transition to sustainability will identi
 fy and mitigate risk for your business
END:VEVENT
END:VCALENDAR
