BEGIN:VCALENDAR
VERSION:2.0
PRODID:-//Squarespace Inc/Squarespace 6//v6//EN
BEGIN:VEVENT
UID:5f2cfe73cc46b01da8e9b7af@squarespace.com
DTSTAMP:20200807T071501Z
DTSTART:20200902T090000Z
DTEND:20200902T100000Z
SUMMARY:#SKILLUP Webinar - Commercial Leasing 101
END:VEVENT
END:VCALENDAR
