BEGIN:VCALENDAR
VERSION:2.0
PRODID:-//Squarespace Inc/Squarespace 6//v6//EN
BEGIN:VEVENT
UID:5f2a5698d8e5d64872602484@squarespace.com
DTSTAMP:20200805T070114Z
DTSTART:20200923T090000Z
DTEND:20200923T100000Z
SUMMARY: #SKILLUP Webinar - A live Q&A on your marketing with Sara from Mar
 keting Sense
END:VEVENT
END:VCALENDAR
