BEGIN:VCALENDAR
VERSION:2.0
PRODID:-//Squarespace Inc/Squarespace 6//v6//EN
BEGIN:VEVENT
UID:5ef2c7eb0a396c0f9dc9fc41@squarespace.com
DTSTAMP:20200709T011924Z
DTSTART:20200715T090000Z
DTEND:20200715T100000Z
SUMMARY:#SKILLUP Webinar - Doing More With Less – How to create high impact 
 marketing campaigns with a small budget
END:VEVENT
END:VCALENDAR
