BEGIN:VCALENDAR
VERSION:2.0
PRODID:-//Squarespace Inc/Squarespace 6//v6//EN
BEGIN:VEVENT
UID:5e9bbb458660e44c272ced71@squarespace.com
DTSTAMP:20200614T050859Z
DTSTART:20200506T090000Z
DTEND:20200506T100000Z
SUMMARY:#SKILLUP Session - Pivoting your business to a new normal
END:VEVENT
END:VCALENDAR
