BEGIN:VCALENDAR
VERSION:2.0
PRODID:-//Squarespace Inc/Squarespace 6//v6//EN
BEGIN:VEVENT
UID:5eb76d3775c2e1070e02b675@squarespace.com
DTSTAMP:20200614T050614Z
DTSTART:20200527T090000Z
DTEND:20200527T100000Z
SUMMARY: #SKILLUP Session - PR is not what you think it is
END:VEVENT
END:VCALENDAR
