BEGIN:VCALENDAR
VERSION:2.0
PRODID:-//Squarespace Inc/Squarespace 6//v6//EN
BEGIN:VEVENT
UID:5ed869804c511a79a5f43d52@squarespace.com
DTSTAMP:20200709T012102Z
DTSTART:20200610T090000Z
DTEND:20200610T100000Z
SUMMARY:#SKILLUP Webinar - LinkedIn Masterclass
END:VEVENT
END:VCALENDAR
