BEGIN:VCALENDAR
VERSION:2.0
PRODID:-//Squarespace Inc/Squarespace 6//v6//EN
BEGIN:VEVENT
UID:5e9bbb458660e44c272ced6d@squarespace.com
DTSTAMP:20200614T050959Z
DTSTART:20200422T090000Z
DTEND:20200422T100000Z
SUMMARY:#SKILLUP Session - Building resilience: What can you control when e
 verything feels out of control?
END:VEVENT
END:VCALENDAR
