BEGIN:VCALENDAR
VERSION:2.0
PRODID:-//Squarespace Inc/Squarespace 6//v6//EN
BEGIN:VEVENT
UID:5eb779fa4a67d300483a7991@squarespace.com
DTSTAMP:20200614T050516Z
DTSTART:20200603T090000Z
DTEND:20200603T100000Z
SUMMARY:#SKILLUP Session - Taking control of your new BAU (business as usua
 l)
END:VEVENT
END:VCALENDAR
